BEGIN:VCALENDAR
VERSION:2.0
PRODID:-//Housing Authority of the City of Paterson New Jersey - ECPv4.9.8//NONSGML v1.0//EN
CALSCALE:GREGORIAN
METHOD:PUBLISH
X-WR-CALNAME:Housing Authority of the City of Paterson New Jersey
X-ORIGINAL-URL:https://patersonhousingauthority.org
X-WR-CALDESC:Events for Housing Authority of the City of Paterson New Jersey
BEGIN:VTIMEZONE
TZID:UTC
BEGIN:STANDARD
TZOFFSETFROM:+0000
TZOFFSETTO:+0000
TZNAME:UTC
DTSTART:20180101T000000
END:STANDARD
END:VTIMEZONE
BEGIN:VEVENT
DTSTART;TZID="UTC":20180201T090000
DTEND;TZID="UTC":20180201T100000
DTSTAMP:20260422T175239
CREATED:20170124T161127Z
LAST-MODIFIED:20180104T173639Z
UID:981-1517475600-1517479200@patersonhousingauthority.org
SUMMARY:Board of Commissioners Annual Reorganization Meeting; Location: 60 Van Houten St.\, Paterson\, NJ 07505
DESCRIPTION:
URL:https://patersonhousingauthority.org/meetings/board-of-commissioners-annual-reorganization-meeting/
END:VEVENT
END:VCALENDAR