BEGIN:VCALENDAR
VERSION:2.0
PRODID:-//Housing Authority of the City of Paterson New Jersey - ECPv4.9.8//NONSGML v1.0//EN
CALSCALE:GREGORIAN
METHOD:PUBLISH
X-WR-CALNAME:Housing Authority of the City of Paterson New Jersey
X-ORIGINAL-URL:https://patersonhousingauthority.org
X-WR-CALDESC:Events for Housing Authority of the City of Paterson New Jersey
BEGIN:VTIMEZONE
TZID:UTC
BEGIN:STANDARD
TZOFFSETFROM:+0000
TZOFFSETTO:+0000
TZNAME:UTC
DTSTART:20200101T000000
END:STANDARD
END:VTIMEZONE
BEGIN:VEVENT
DTSTART;TZID="UTC":20201019T173000
DTEND;TZID="UTC":20201019T190000
DTSTAMP:20260422T160254
CREATED:20190114T212058Z
LAST-MODIFIED:20200106T222410Z
UID:1322-1603128600-1603134000@patersonhousingauthority.org
SUMMARY:Monthly Board of Commissioner Meeting
DESCRIPTION:
URL:https://patersonhousingauthority.org/meetings/monthly-board-of-commissioner-meeting-10/
LOCATION:Paterson Housing Authority\, 60 Van Houten Street\, Paterson\, NJ\, 07505\, United States
END:VEVENT
END:VCALENDAR