BEGIN:VCALENDAR
VERSION:2.0
PRODID:-//Housing Authority of the City of Paterson New Jersey - ECPv4.9.8//NONSGML v1.0//EN
CALSCALE:GREGORIAN
METHOD:PUBLISH
X-WR-CALNAME:Housing Authority of the City of Paterson New Jersey
X-ORIGINAL-URL:https://patersonhousingauthority.org
X-WR-CALDESC:Events for Housing Authority of the City of Paterson New Jersey
BEGIN:VTIMEZONE
TZID:UTC
BEGIN:STANDARD
TZOFFSETFROM:+0000
TZOFFSETTO:+0000
TZNAME:UTC
DTSTART:20220101T000000
END:STANDARD
END:VTIMEZONE
BEGIN:VEVENT
DTSTART;TZID="UTC":20221121T173000
DTEND;TZID="UTC":20221121T190000
DTSTAMP:20260422T140420
CREATED:20210518T161640Z
LAST-MODIFIED:20220125T215516Z
UID:1568-1669051800-1669057200@patersonhousingauthority.org
SUMMARY:Monthly Board of Commissioner Meeting
DESCRIPTION:
URL:https://patersonhousingauthority.org/meetings/monthly-board-of-commissioner-meeting-14/
LOCATION:Paterson Housing Authority\, 60 Van Houten Street\, Paterson\, NJ\, 07505\, United States
END:VEVENT
END:VCALENDAR